BEGIN:VCALENDAR
VERSION:2.0
PRODID:gruene-vorpommern-ruegen.de
METHOD:PUBLISH
BEGIN:VTIMEZONE
TZID:Europe/Berlin
X-LIC-LOCATION:Europe/Berlin
BEGIN:DAYLIGHT
TZOFFSETFROM:+0100
TZOFFSETTO:+0200
TZNAME:CEST
DTSTART:19700329T020000
RRULE:FREQ=YEARLY;INTERVAL=1;BYDAY=-1SU;BYMONTH=3
END:DAYLIGHT
BEGIN:STANDARD
TZOFFSETFROM:+0200
TZOFFSETTO:+0100
TZNAME:CET
DTSTART:19701025T030000
RRULE:FREQ=YEARLY;INTERVAL=1;BYDAY=-1SU;BYMONTH=10
END:STANDARD
END:VTIMEZONE
BEGIN:VEVENT
UID:b40a17364c1457fafe2ebee2a320de85@gruene-vorpommern-ruegen.de
URL;VALUE=URI:https://gruene-vorpommern-ruegen.de/termine/ostkongress-202
 6/
LOCATION:Glasbahnhof, Hafenstraße 12D, Sassnitz
SUMMARY:Ostkongress 2026
DESCRIPTION;ALTREP="data:text/html,%0A%3Cp%3EDer%20Ostkongress%20kommt%20
 in%20diesem%20Jahr%20nach%20Vorpommern-R%C3%BCgen.%20Am%2026.%20und%2027.
 %20Juni%202026%20werden%20sich%20die%20B%C3%BCndnisgr%C3%BCnen%20aus%20ga
 nz%20Ostdeutschland%20und%20dar%C3%BCber%20hinaus%20in%20Sassnitz%20treff
 en.%3Cbr%3EUnter%20dem%20Motto%20%E2%80%9EGemeinsam%20f%C3%BCr%20eine%20b
 essere%20Zukunft%20einstehen%E2%80%9C%20wollen%20wir%20nicht%20nur%20dara
 uf%20zur%C3%BCckblicken%2C%20welche%20positiven%20Nachrichten%20es%20in%2
 0den%20ostdeutschen%20Regionen%20in%20den%20vergangenen%20Jahren%20gab.%2
 0Wir%20wollen%20auch%20diskutieren%2C%20wie%20wir%20bei%20allen%20Untersc
 hieden%20und%20Herausforderungen%20einen%20gemeinsamen%20Weg%20in%20eine%
 20gute%20Zukunft%20entwickeln%20k%C3%B6nnen.%20Registriere%20dich%20%3Ca%
 20href%3D%22https%3A%2F%2Fgruenede.typeform.com%2Fto%2FRsjRMIAl%22%3Ehier
 %3C%2Fa%3E%2C%20damit%20du%20informiert%20wirst%2C%20sobald%20die%20Anmel
 dung%20zum%20Kongress%20ge%C3%B6ffnet%20ist.%3C%2Fp%3E%0A%0A%0A%0A%3Cp%3E
 %3C%2Fp%3E%0A":Der Ostkongress kommt in diesem Jahr nach Vorpommern-Rüge
 n. Am 26. und 27. Juni 2026 werden sich die Bündnisgrünen aus ganz Ostd
 eutschland und darüber hinaus in Sassnitz treffen.Unter dem Motto „Gem
 einsam für eine bessere Zukunft einstehen“ wollen wir nicht nur darauf
  zurückblicken\, welche positiven Nachrichten es in den ostdeutschen Reg
 ionen in den vergangenen Jahren gab. Wir wollen auch diskutieren\, wie wi
 r bei allen Unterschieden und Herausforderungen einen gemeinsamen Weg in 
 eine gute Zukunft entwickeln können. Registriere dich hier\, damit du in
 formiert wirst\, sobald die Anmeldung zum Kongress geöffnet ist.
CLASS:PUBLIC
DTSTART;TZID=Europe/Berlin:20260626T150000
DTEND;TZID=Europe/Berlin:20260627T200000
DTSTAMP:20260422T114406
END:VEVENT
END:VCALENDAR